BEGIN:VCALENDAR
VERSION:2.0
PRODID:-//Belvoir Special School - ECPv4.8.1//NONSGML v1.0//EN
CALSCALE:GREGORIAN
METHOD:PUBLISH
X-WR-CALNAME:Belvoir Special School
X-ORIGINAL-URL:https://www.belvoirss.vic.edu.au
X-WR-CALDESC:Events for Belvoir Special School
BEGIN:VEVENT
DTSTART;TZID=UTC+10:20181220T150000
DTEND;TZID=UTC+10:20190129T090000
DTSTAMP:20190301T163044
CREATED:20180828T133319Z
LAST-MODIFIED:20181112T124735Z
UID:906-1545318000-1548752400@www.belvoirss.vic.edu.au
SUMMARY:Term 4 School Holidays
DESCRIPTION:Term 4 School Holidays from 20th December to \n
URL:https://www.belvoirss.vic.edu.au/event/term-4-school-holidays-2/
CATEGORIES:School Events
END:VEVENT
BEGIN:VEVENT
DTSTART;VALUE=DATE:20190101
DTEND;VALUE=DATE:20190102
DTSTAMP:20190301T163044
CREATED:20180828T131632Z
LAST-MODIFIED:20180828T133310Z
UID:829-1546300800-1546387199@www.belvoirss.vic.edu.au
SUMMARY:New Year's Day
DESCRIPTION:New Year’s Day – Public Holiday – NO SCHOOL \n
URL:https://www.belvoirss.vic.edu.au/event/new-years-day/
CATEGORIES:Public Holidays
END:VEVENT
END:VCALENDAR